Workbook
Name Auftraggeber: Auftrag!$D$11:$H$12,Auftrag!$D$13,Auftrag!$F$13,Auftrag!#REF!,Auftrag!#REF!
Name Auslieferungsregion: Auftrag!$C$10
Name Beauftragtes_Laboratorium: Auftrag!$C$6

Sheet Auftrag
A1: German/28.08.2026
C2: Untersuchungsauftrag für Obst und Gemüse
C4: Bitte in Druckbuchstaben leserlich ausfüllen! þ = Pflichtfeld - bitte immer ausfüllen (Eingabe in die Fruitmonitoring-Datenbank sonst nicht möglich)
C5: Probe auch für:
A6: þ | B6: Beauftragtes Laboratorium:
A7: þ | B7: Probe eingestellt für Handelshaus:
A10: þ | B10: Auslieferungsregion Edeka: Bitte aus der Drop-Down-Liste auswählen | G10: Nur bei Edeka-Proben auszufüllen, ansonsten „keine Angabe“ ankreuzen
A11: þ | B11: Auftraggeber des Labors : | C11: þ Name:
B12: Unternehmen, das die Probenanalyse beauftragt | C12: Straße:
C13: PLZ: | E13: þ Ort: | G13: þ Land:
A14: þ | B14: GLN des Auftraggebers: 13-stellig; falls GLN nicht vorhanden, bitte GGN eintragen
A15: þ | B15: Losnummer / Chargennummer: Es sind alle Informationen einzutragen, die eine Identifikation der Charge ermöglichen, z.B. Produktcode, Probencode, Rückverfolgbarkeitscode, Auftraggebercode, Partie(nr.). Wenn die beprobte Ware keine Los-/Chargennr. besitzt, ist „nicht vorhanden“ anzukreuzen.
A16: þ | B16: Erzeugnis: Bitte aus der Drop-Down-Liste auswählen
A17: þ | B17: Verarbeitungsstatus: Bitte aus der Drop-Down-Liste auswählen
A18: þ | B18: Verwendungszweck: | C18: Handel
B19: Untersuchung bei Mischprodukten: Mischproben sind nur zulässig, wenn es sich um verschiedene
B20: Einzelbestandteile eines Mischprodukts handelt, z.B. Suppengrün, Salatmischungen.
A21: þ | B21: Untersuchungsauftrag:
B22: Bei Einzeluntersuchungen von Mischprodukten Untersuchungsumfang für jeden Einzelbestandteil angeben. | C22: (Glyphosat, AMPA, Maleinsäurehydrazid, Ethephon, Chlormequat, Mepiquat, Phosphonsäure, Perchlorat, Chlorat)
B25: Handelshaus-spezifische Nr.: z.B. Positions-Nr., Artikelnr.
A26: þ | B26: Einsender: | C26: þ Name:
B27: Entweder Auftraggeber oder zusätzliche Angabe z.B. für Packstation, Niederlassung, Lager… | C27: Straße:
C28: PLZ: | E28: þ Ort: | G28: þ Land:
A29: þ | B29: Lieferant an Handelshaus: | C29: þ Name:
C30: Straße:
C31: PLZ: | E31: þ Ort: | G31: þ Land:
A32: þ | B32: GLN Lieferant an Handelshaus: 13-stellig; falls GLN nicht vorhanden, bitte GGN eintragen
A33: þ | B33: Produzent / Hersteller / Abpacker: | C33: þ Name:
B34: ggf. "keine Angabe" ankreuzen | C34: Straße:
C35: PLZ: | E35: þ Ort: | G35: þ Land:
B36: Erzeuger / Landwirt: | C36: þ Name:
B37: ggf. "keine Angabe" ankreuzen | C37: Straße:
C38: PLZ: | E38: þ Ort: | G38: þ Land:
B39: GGN Erzeuger / Landwirt: 13-stellig
A40: þ | B40: Datum der Probennahme: tt.mm.jjjj
A41: þ | B41: Probenehmer: | C41: þ Nachname: | G41: Vorname:
B42: Vor- und Nachname / Firma, ggf. Telefonnr. | C42: þ Firma: | G42: Telnr:
A43: þ | B43: Betriebsstätte der Probennahme: | C43: þ Name:
C44: Straße:
C45: PLZ: | E45: þ Ort: | G45: þ Land:
A46: þ | B46: GLN Betriebsstätte der Probennahme: 13-stellig; falls GLN nicht vorhanden, bitte GGN eintragen
A47: þ | B47: Zertifizierungsstandard Betriebsstätte
B48: der Probennahme:
B49: ggf. "keine Angabe" ankreuzen Mehrfachauswahl möglich
A52: þ | B52: Produktzertifizierung:
B53: ggf. "keine Angabe" ankreuzen Mehrfachauswahl möglich
A55: þ | B55: Bioprodukt: gem. VO (EG) 834/2007
A56: þ | B56: Code-Nummer der Bio-Kontrollbehörde / Kontrollstelle: (Länderkürzel plus Nummer)
A57: þ | B57: Art der Probe:
B58: *bei Gegenproben/Zweitproben Kopie des Probenbegleitscheins beilegen | C58: Feldprobe: | E58: oder
A62: þ | B62: Probentyp: Pflichtfeld bei Verkaufsproben oder Lagerproben | F62: Gebindeprobe = Probe aus einer Packungseinheit Sammelprobe = Probe aus mehr als einer Packungseinheit
A63: þ | B63: Anbauart: Pflichtfeld bei Feldproben
A64: þ | B64: Angebotsform:
A65: þ | B65: Ursprungsland: Bitte aus der Drop-Down-Liste auswählen | I65: bei Mischprodukten Abpackland
A66: þ | B66: Bestimmungsland: Bitte aus der Drop-Down-Liste auswählen
B67: Einzelbestandteile bei Mischprodukten: Bitte aus der Drop-Down-Liste auswählen | C67: Erzeugnis: | F67: Ursprungsland:
C68: Erzeugnis: | F68: Ursprungsland:
C69: Erzeugnis: | F69: Ursprungsland:
A70: þ | B70: Vermarktungsnorm / Klasse: ggf. "keine Angabe" ankreuzen
A71: þ | B71: Größe / Kaliber / Gebindeeinheit: ggf. "keine Angabe" ankreuzen
B72: Zusätzliche Angaben: auf Etikett / Verpackung / Lieferschein, z.B. Sorte, Typ…
A73: þ | B73: Ausgelobte Qualitäts- / Prüfsiegel:
B74: ggf. "keine Angabe" ankreuzen Mehrfachauswahl möglich
A77: þ | B77: Marke:
B78: Die Eigenmarke bitte aus der Drop-Down-Liste auswählen
A79: þ | B79: EAN / GTIN: | C79: Endverbraucherpackung:
B80: 8-/13-/14-stellig; ggf. "keine Angabe" ankreuzen | C80: Karton:
B81: Schlag / Feldpassnummer: optional: GPS-Koordinaten
A82: þ | B82: Probenmenge: - Produkte bis 250g: mind. 1kg und/oder mind. 10 Stück | C82: Probenmenge (in g):
B83: - Produkte über 250g: mind. 2kg und/oder mind. 5 Stück - Frische Kräuter mind. 0,5kg | C83: Anzahl (in Stück):
A89: Bitte Foto und / oder Etikett des Produkts beifügen, sofern möglich!
A90: Mit diesem Untersuchungsauftragsformular verpflichtet der Auftraggeber das Labor, die Daten sowie die Ergebnisse der Untersuchungen im Rahmen des FRUITMONITORING – auch im Detail – unabhängig vom Ergebnis der Rückstandsuntersuchung an die Fruitmonitoring-Datenbank zu übermitteln. Den Lebensmitteleinzelhandelsunternehmen werden die Ergebnisse ausschließlich der von ihnen oder von seinen Lieferanten beauftragten Untersuchungen über die Fruitmonitoring-Datenbank zugänglich gemacht. Des Weiteren werden den am Fruitmonitoring beteiligten Lebensmitteleinzelhandelsunternehmen die Ergebnisse sämtlicher Untersuchungen im Rahmen des Fruitmonitoring in anonymisierter Form zugänglich gemacht. Die Ergebnisse der Rückstandsuntersuchung dürfen von der HDE Trade Services GmbH an die Qualitätssysteme (z.B. QS, GlobalGAP) übermittelt werden, dessen Mitglied der Auftraggeber oder der Hersteller des geprüften Obst und Gemüses ist. Die HDE Trade Services GmbH übernimmt keine Verantwortung für die Vollständigkeiten der Daten zum Einstellen in die QS- und / oder Fresh.Point Datenbank.
B96: Auslieferungsregionen: | D96: Ursprungsländer | F96: Erzeugnisse | H96: Eigenmarken | I96: Verarbeitungsstatus
B97: EDEKA Einkaufskontor Blumenkontor Lüllingen | D97: Afghanistan | F97: Acai Beere | H97: Albi (EDEKA/Netto MD) | I97: Frisch
B98: EDEKA Einkaufskontor Italia srl, Bari (FK Italia) | D98: Ägypten | F98: Achacha | H98: Barbecue (EDEKA/Netto MD) | I98: Gegart, z.B. blanchiert (außer Nüsse), gekocht, gebraten, gebacken, geröstet
B99: EDEKA Einkaufskontor Nord, Hamburg | D99: Åland Inseln | F99: Ackerknoblauch | H99: Best Moments | I99: Getrocknet (incl. blanchierte Nüsse)
B100: EDEKA Einkaufskontor Süd, München | D100: Albanien | F100: Ananas | H100: Billa Bio | I100: Konserve
B101: EDEKA Einkaufskontor West, Roisdorf | D101: Algerien | F101: Ananasmelone | H101: Billa Genusswelt | I101: Tiefgefroren
B102: EDEKA Fruchtkontor B.V., Holland (FK West) | D102: Amerikanisch Samoa | F102: Äpfel | H102: Billa immer gut | I102: Zerkleinert, z.B. geschnitten, püriert, gemahlen
B103: Edeka Fruchtkontor Espana S.L., Valencia | D103: Amerikanische Jungferninseln | F103: Apfelchips (auch unter Zusatz von z.B. Gewürzen) | H103: BioBio (EDEKA/Netto MD)
B104: Edeka GHB Hessenring | D104: Andorra | F104: Apfelminze | H104: biogarden
B105: Edeka GHB Minden-Hannover | D105: Angola | F105: Apfelminze im Topf | H105: Cali
B106: Edeka GHB Nord | D106: Anguilla | F106: Aprikosen | H106: Chiquita (EDEKA/Netto MD)
B107: Edeka GHB Nordbayern-Sachsen-Thüringen | D107: Antarktis | F107: Aprikosen, getrocknet | H107: Clever
B108: EDEKA GHB Rhein-Ruhr Stiftung & Co. KG | D108: Antigua und Barbuda | F108: Aroniabeeren/Apfelbeere | H108: Clever und Echt Bio
B109: Edeka GHB Südbayern | D109: Äquatorialguinea | F109: Artischocken | H109: Da komm ich her
B110: EDEKA Südwest Stiftung & Co. KG | D110: Argentinien | F110: Auberginen | H110: Demeter für EDEKA (EDEKA/Netto MD)
B111: Everest Fresh B.V. | D111: Armenien | F111: Auberginenpflanzen | H111: Die Grillerei
B112: Netto Markendiscount | D112: Aruba | F112: Austernseitlinge | H112: Echt Bio
D113: Aserbaidschan | F113: Avocados | H113: EDEKA Bio
D114: Äthiopien | F114: Babaco | H114: EDEKA Deli
D115: Australien | F115: Baby Ananas | H115: EDEKA Genussmomente
D116: Bahamas | F116: Banane | H116: EDEKA Havanna Club
D117: Bahrain | F117: Banane (ungereift) | H117: EDEKA Heimatliebe (EDEKA/Netto MD)
D118: Bangladesch | F118: Bananenblätter | H118: EDEKA Heimatliebe Bioland
D119: Barbados | F119: Bananenchips (mit Zusatz von z.B. Zucker oder Fett) | H119: EDEKA Heimatliebe demeter
D120: Belgien | F120: Bananenschalotten | H120: EDEKA Herzstücke (EHRZ)
D121: Belize | F121: Bärlauch | H121: EDEKA Regional (Edeka/Netto MD)
D122: Benin | F122: Bärlauch im Topf | H122: EDEKA Regional Bioland (Edeka/Netto MD)
D123: Bermuda | F123: Basilikum | H123: EDEKA Regional demeter (Edeka/Netto MD)
...

Sheet Data
A1: Bereich | B1: Identifikation (Excel) | C1: Feld verwenden | D1: Wert
A2: Beauftragtes Laboratorium | B2: Labor | C2: Ja | D2: =IF(Beauftragtes_Laboratorium="","",Beauftragtes_Laboratorium)
A3: Handelshaus | B3: Edeka | C3: Ja | D3: FALSE
A4: Handelshaus | B4: Rewe | C4: Ja | D4: FALSE
A5: Handelshaus | B5: Globus | C5: Ja | D5: FALSE
A6: Handelshaus | B6: Dohle | C6: Ja | D6: FALSE
A7: Handelshaus | B7: Tegut | C7: Ja | D7: FALSE
A8: Handelshaus | B8: Norma | C8: Ja | D8: FALSE
A9: Handelshaus | B9: Metro | C9: Ja | D9: FALSE
A10: Handelshaus | B10: Kaiser´s Tengelmann | C10: Ja | D10: TRUE
A11: Handelshaus | B11: Kaufhof | C11: Ja | D11: FALSE
A12: Handelshaus | B12: Coop | C12: Ja | D12: FALSE
A13: Auslieferungsregion | B13: Region | C13: Ja | D13: =IF(Auslieferungsregion="","",Auslieferungsregion)
A14: Auslieferungsregion | B14: Keine Angabe | C14: Ja | D14: FALSE
A15: Auftraggeber | B15: Erzeuger | C15: Nein | D15: FALSE
A16: Auftraggeber | B16: Lieferant | C16: Nein | D16: FALSE
A17: Auftraggeber | B17: Handelshaus | C17: Nein | D17: FALSE
A18: Auftraggeber | B18: Auftraggebertyp | C18: Formel | D18: =IF(D15=TRUE,0,IF(D16=TRUE,1,IF(D17=TRUE,2,0))) -> 0
A19: Auftraggeber | B19: Name | C19: Ja | D19: =IF(Auftrag!D11="","",Auftrag!D11)
A20: Auftraggeber | B20: Straße | C20: Ja | D20: =IF(Auftrag!D12="","",Auftrag!D12)
A21: Auftraggeber | B21: PLZ | C21: Ja | D21: =IF(Auftrag!D13="","",Auftrag!D13)
A22: Auftraggeber | B22: Ort | C22: Ja | D22: =IF(Auftrag!F13="","",Auftrag!F13)
A23: Auftraggeber | B23: Land | C23: Ja | D23: =IF(Auftrag!#REF!="","",Auftrag!#REF!) -> #REF!
A24: Auftraggeber | B24: Weitere Angaben | C24: Ja | D24: =IF(Auftrag!#REF!="","",Auftrag!#REF!) -> #REF!
A25: GLN des Auftraggebers | B25: GLN | C25: Ja | D25: =IF(Auftrag!C14="","",Auftrag!C14)
A26: GLN des Auftraggebers | B26: Keine Angabe | C26: Ja | D26: FALSE
A27: Handelshaus-spezifische Nummer | B27: Nummer | C27: Ja | D27: =IF(Auftrag!C25="","",Auftrag!C25)
A28: Einsender | B28: Erzeuger | C28: Nein | D28: FALSE
A29: Einsender | B29: Lieferant | C29: Nein | D29: FALSE
A30: Einsender | B30: Handelshaus | C30: Nein | D30: FALSE
A31: Einsender | B31: Sonstige | C31: Nein | D31: FALSE
A32: Einsender | B32: Einsendertyp | C32: Formel | D32: =IF(D28=TRUE,0,IF(D29=TRUE,1,IF(D30=TRUE,2,IF(D31=TRUE,3,0)))) -> 0
A33: Einsender | B33: Sonstigeangaben | C33: Ja | D33: FALSE
A34: Einsender | B34: Name | C34: Ja | D34: =IF(Auftrag!D26="","",Auftrag!D26)
A35: Einsender | B35: Straße | C35: Ja | D35: =IF(Auftrag!D27="","",Auftrag!D27)
A36: Einsender | B36: PLZ | C36: Ja | D36: =IF(Auftrag!D28="","",Auftrag!D28)
A37: Einsender | B37: Ort | C37: Ja | D37: =IF(Auftrag!F28="","",Auftrag!F28)
A38: Einsender | B38: Land | C38: Ja | D38: =IF(Auftrag!#REF!="","",Auftrag!#REF!) -> #REF!
A39: Einsender | B39: Weitere Angaben | C39: Ja | D39: =IF(Auftrag!#REF!="","",Auftrag!#REF!) -> #REF!
A40: Lieferant an Handelhaus | B40: Name | C40: Ja | D40: =IF(Auftrag!D29="","",Auftrag!D29)
A41: Lieferant an Handelhaus | B41: Straße | C41: Ja | D41: =IF(Auftrag!D30="","",Auftrag!D30)
A42: Lieferant an Handelhaus | B42: PLZ | C42: Ja | D42: =IF(Auftrag!D31="","",Auftrag!D31)
A43: Lieferant an Handelhaus | B43: Ort | C43: Ja | D43: =IF(Auftrag!F31="","",Auftrag!F31)
A44: Lieferant an Handelhaus | B44: Land | C44: Ja | D44: =IF(Auftrag!#REF!="","",Auftrag!#REF!) -> #REF!
A45: Lieferant an Handelhaus | B45: Weitere Angaben | C45: Ja | D45: =IF(Auftrag!#REF!="","",Auftrag!#REF!) -> #REF!
A46: GLN Lieferant an Handelhaus | B46: GLN | C46: Ja | D46: =IF(Auftrag!C32="","",Auftrag!C32)
A47: GLN Lieferant an Handelhaus | B47: Keine Angabe | C47: Ja | D47: FALSE
A48: Produzent / Hersteller / Abpacker | B48: Name | C48: Ja | D48: =IF(Auftrag!D33="","",Auftrag!D33)
A49: Produzent / Hersteller / Abpacker | B49: Straße | C49: Ja | D49: =IF(Auftrag!D34="","",Auftrag!D34)
A50: Produzent / Hersteller / Abpacker | B50: PLZ | C50: Ja | D50: =IF(Auftrag!D35="","",Auftrag!D35)
A51: Produzent / Hersteller / Abpacker | B51: Ort | C51: Ja | D51: =IF(Auftrag!F35="","",Auftrag!F35)
A52: Produzent / Hersteller / Abpacker | B52: Land | C52: Ja | D52: =IF(Auftrag!#REF!="","",Auftrag!#REF!) -> #REF!
A53: Produzent / Hersteller / Abpacker | B53: Weitere Angaben | C53: Ja | D53: =IF(Auftrag!#REF!="","",Auftrag!#REF!) -> #REF!
A54: Produzent / Hersteller / Abpacker | B54: Keine Angabe | C54: Ja | D54: FALSE
A55: Erzeuger / Landwirt | B55: Name | C55: Ja | D55: =IF(Auftrag!D36="","",Auftrag!D36)
A56: Erzeuger / Landwirt | B56: Straße | C56: Ja | D56: =IF(Auftrag!D37="","",Auftrag!D37)
A57: Erzeuger / Landwirt | B57: PLZ | C57: Ja | D57: =IF(Auftrag!D38="","",Auftrag!D38)
A58: Erzeuger / Landwirt | B58: Ort | C58: Ja | D58: =IF(Auftrag!F38="","",Auftrag!F38)
A59: Erzeuger / Landwirt | B59: Land | C59: Ja | D59: =IF(Auftrag!#REF!="","",Auftrag!#REF!) -> #REF!
A60: Erzeuger / Landwirt | B60: Weitere Angaben | C60: Ja | D60: =IF(Auftrag!#REF!="","",Auftrag!#REF!) -> #REF!
A61: Erzeuger / Landwirt | B61: Keine Angabe | C61: Ja | D61: FALSE
A62: GLN Erzeuger / Landwirt | B62: GLN | C62: Ja | D62: =IF(Auftrag!C39="","",Auftrag!C39)
A63: GLN Erzeuger / Landwirt | B63: Keine Angabe | C63: Ja | D63: FALSE
A64: Datum der Probennahme | B64: Datum | C64: Ja | D64: =IF(Auftrag!C40="","",Auftrag!C40)
A65: Probenehmer | B65: Name | C65: Ja | D65: =IF(Auftrag!#REF!="","",Auftrag!#REF!) -> #REF!
A66: Probenehmer | B66: Nachname | C66: Ja | D66: =IF(Auftrag!D42="","",Auftrag!D42)
A67: Probenehmer | B67: Telefonummer | C67: Ja | D67: =IF(Auftrag!#REF!="","",Auftrag!#REF!) -> #REF!
A68: Probenehmer | B68: Firma | C68: Ja | D68: =IF(Auftrag!#REF!="","",Auftrag!#REF!) -> #REF!
A69: Name und Anschrift der Betriebstätte der Probenahme | B69: Name | C69: Ja | D69: =IF(Auftrag!D43="","",Auftrag!D43)
A70: Name und Anschrift der Betriebstätte der Probenahme | B70: Straße | C70: Ja | D70: =IF(Auftrag!D44="","",Auftrag!D44)
A71: Name und Anschrift der Betriebstätte der Probenahme | B71: PLZ | C71: Ja | D71: =IF(Auftrag!D45="","",Auftrag!D45)
A72: Name und Anschrift der Betriebstätte der Probenahme | B72: Ort | C72: Ja | D72: =IF(Auftrag!F45="","",Auftrag!F45)
A73: Name und Anschrift der Betriebstätte der Probenahme | B73: Land | C73: Ja | D73: =IF(Auftrag!#REF!="","",Auftrag!#REF!) -> #REF!
A74: Name und Anschrift der Betriebstätte der Probenahme | B74: Weitere Angaben | C74: Ja | D74: =IF(Auftrag!#REF!="","",Auftrag!#REF!) -> #REF!
A75: GLN der Betriebsstätte der Probenahme | B75: GLN | C75: Ja | D75: =IF(Auftrag!C46="","",Auftrag!C46)
A76: GLN der Betriebsstätte der Probenahme | B76: Keine Angabe | C76: Ja | D76: TRUE
A77: Zertifizierungsstandard / -system der Betriebsstätte der Probenahme | B77: ohne | C77: Ja | D77: FALSE
A78: Zertifizierungsstandard / -system der Betriebsstätte der Probenahme | B78: GlobalGAP Zert.-Nr._JaNein | C78: Ja | D78: FALSE
A79: Zertifizierungsstandard / -system der Betriebsstätte der Probenahme | B79: GlobalGAP angerkanntes System | C79: Ja | D79: FALSE
A80: Zertifizierungsstandard / -system der Betriebsstätte der Probenahme | B80: GlobalGAP Zert.-Nr. | C80: Ja | D80: =IF(Auftrag!E48="","",Auftrag!E48)
A81: Zertifizierungsstandard / -system der Betriebsstätte der Probenahme | B81: GlobalGAP angerkanntes System | C81: Ja | D81: =IF(Auftrag!E49="","",Auftrag!E49)
A82: Zertifizierungsstandard / -system der Betriebsstätte der Probenahme | B82: Name | C82: Ja | D82: =IF(Auftrag!E51="","",Auftrag!E51)
A83: Zertifizierungsstandard / -system der Betriebsstätte der Probenahme | B83: Nummer | C83: Ja | D83: =IF(Auftrag!#REF!="","",Auftrag!#REF!) -> #REF!
A84: Zertifizierungsstandard / -system der Betriebsstätte der Probenahme | B84: IFS | C84: Ja | D84: FALSE
A85: Zertifizierungsstandard / -system der Betriebsstätte der Probenahme | B85: BRC | C85: Ja | D85: FALSE
A86: Zertifizierungsstandard / -system der Betriebsstätte der Probenahme | B86: SQF | C86: Ja | D86: TRUE
A87: Zertifizierungsstandard / -system der Betriebsstätte der Probenahme | B87: BIO | C87: Ja | D87: FALSE
A88: Zertifizierungsstandard / -system der Betriebsstätte der Probenahme | B88: ISO_22000 | C88: Ja | D88: TRUE
A89: Zertifizierungsstandard / -system der Betriebsstätte der Probenahme | B89: FSSC_22000 | C89: Ja | D89: FALSE
A90: Zertifizierungsstandard / -system der Betriebsstätte der Probenahme | B90: QS + ID_Ja/Nein | C90: Ja | D90: FALSE
A91: Zertifizierungsstandard / -system der Betriebsstätte der Probenahme | B91: QS + ID | C91: Ja | D91: =IF(Auftrag!#REF!="","",Auftrag!#REF!) -> #REF!
A92: Zertifizierungsstandard / -system der Betriebsstätte der Probenahme | B92: SonstigesName1 | D92: =IF(Auftrag!#REF!="","",Auftrag!#REF!) -> #REF!
A93: Zertifizierungsstandard / -system der Betriebsstätte der Probenahme | B93: SonstigesNummer1 | D93: =IF(Auftrag!#REF!="","",Auftrag!#REF!) -> #REF!
A94: Zertifizierungsstandard / -system der Betriebsstätte der Probenahme | B94: SonstigesName2 | D94: =IF(Auftrag!#REF!="","",Auftrag!#REF!) -> #REF!
A95: Zertifizierungsstandard / -system der Betriebsstätte der Probenahme | B95: SonstigesNummer2 | D95: =IF(Auftrag!#REF!="","",Auftrag!#REF!) -> #REF!
A96: Zertifizierungsstandard / -system der Betriebsstätte der Probenahme | B96: SonstigesName3 | D96: =IF(Auftrag!#REF!="","",Auftrag!#REF!) -> #REF!
A97: Zertifizierungsstandard / -system der Betriebsstätte der Probenahme | B97: SonstigesNummer3 | D97: =IF(Auftrag!#REF!="","",Auftrag!#REF!) -> #REF!
A98: Zertifizierungsstandard / -system der Betriebsstätte der Probenahme | B98: Sonstiges | C98: Ja | D98: TRUE
A99: Art der Probe | B99: Verkaufsprobe | C99: Nein | D99: FALSE
A100: Art der Probe | B100: Lagerprobe | C100: Nein | D100: FALSE
...
