Workbook
Name Auftraggeber: Auftrag!$D$11:$H$12,Auftrag!$D$13,Auftrag!$F$13,Auftrag!#REF!,Auftrag!#REF!
Name Auslieferungsregion: Auftrag!$C$10
Name Beauftragtes_Laboratorium: Auftrag!$C$6

Sheet Auftrag
A1: German/28.08.2026
C2: Untersuchungsauftrag für Obst und Gemüse
C4: Bitte in Druckbuchstaben leserlich ausfüllen! þ = Pflichtfeld - bitte immer ausfüllen (Eingabe in die Fruitmonitoring-Datenbank sonst nicht möglich)
C5: Probe auch für:
A6: þ | B6: Beauftragtes Laboratorium:
A7: þ | B7: Probe eingestellt für Handelshaus:
A10: þ | B10: Auslieferungsregion Edeka: Bitte aus der Drop-Down-Liste auswählen | G10: Nur bei Edeka-Proben auszufüllen, ansonsten „keine Angabe“ ankreuzen
A11: þ | B11: Auftraggeber des Labors : | C11: þ Name:
B12: Unternehmen, das die Probenanalyse beauftragt | C12: Straße:
C13: PLZ: | E13: þ Ort: | G13: þ Land:
A14: þ | B14: GLN des Auftraggebers: 13-stellig; falls GLN nicht vorhanden, bitte GGN eintragen
A15: þ | B15: Losnummer / Chargennummer: Es sind alle Informationen einzutragen, die eine Identifikation der Charge ermöglichen, z.B. Produktcode, Probencode, Rückverfolgbarkeitscode, Auftraggebercode, Partie(nr.). Wenn die beprobte Ware keine Los-/Chargennr. besitzt, ist „nicht vorhanden“ anzukreuzen.
A16: þ | B16: Erzeugnis: Bitte aus der Drop-Down-Liste auswählen
A17: þ | B17: Verarbeitungsstatus: Bitte aus der Drop-Down-Liste auswählen
A18: þ | B18: Verwendungszweck: | C18: Handel
B19: Untersuchung bei Mischprodukten: Mischproben sind nur zulässig, wenn es sich um verschiedene
B20: Einzelbestandteile eines Mischprodukts handelt, z.B. Suppengrün, Salatmischungen.
A21: þ | B21: Untersuchungsauftrag:
B22: Bei Einzeluntersuchungen von Mischprodukten Untersuchungsumfang für jeden Einzelbestandteil angeben. | C22: (Glyphosat, AMPA, Maleinsäurehydrazid, Ethephon, Chlormequat, Mepiquat, Phosphonsäure, Perchlorat, Chlorat)
B25: Handelshaus-spezifische Nr.: z.B. Positions-Nr., Artikelnr.
A26: þ | B26: Einsender: | C26: þ Name:
B27: Entweder Auftraggeber oder zusätzliche Angabe z.B. für Packstation, Niederlassung, Lager… | C27: Straße:
C28: PLZ: | E28: þ Ort: | G28: þ Land:
A29: þ | B29: Lieferant an Handelshaus: | C29: þ Name:
C30: Straße:
C31: PLZ: | E31: þ Ort: | G31: þ Land:
A32: þ | B32: GLN Lieferant an Handelshaus: 13-stellig; falls GLN nicht vorhanden, bitte GGN eintragen
A33: þ | B33: Produzent / Hersteller / Abpacker: | C33: þ Name:
B34: ggf. "keine Angabe" ankreuzen | C34: Straße:
C35: PLZ: | E35: þ Ort: | G35: þ Land:
B36: Erzeuger / Landwirt: | C36: þ Name:
B37: ggf. "keine Angabe" ankreuzen | C37: Straße:
C38: PLZ: | E38: þ Ort: | G38: þ Land:
B39: GGN Erzeuger / Landwirt: 13-stellig
A40: þ | B40: Datum der Probennahme: tt.mm.jjjj
A41: þ | B41: Probenehmer: | C41: þ Nachname: | G41: Vorname:
B42: Vor- und Nachname / Firma, ggf. Telefonnr. | C42: þ Firma: | G42: Telnr:
A43: þ | B43: Betriebsstätte der Probennahme: | C43: þ Name:
C44: Straße:
C45: PLZ: | E45: þ Ort: | G45: þ Land:
...

Sheet Data
A1: Bereich | B1: Identifikation (Excel) | C1: Feld verwenden | D1: Wert
A2: Beauftragtes Laboratorium | B2: Labor | C2: Ja | D2: =IF(Beauftragtes_Laboratorium="","",Beauftragtes_Laboratorium)
A3: Handelshaus | B3: Edeka | C3: Ja | D3: FALSE
A4: Handelshaus | B4: Rewe | C4: Ja | D4: FALSE
A5: Handelshaus | B5: Globus | C5: Ja | D5: FALSE
A6: Handelshaus | B6: Dohle | C6: Ja | D6: FALSE
A7: Handelshaus | B7: Tegut | C7: Ja | D7: FALSE
A8: Handelshaus | B8: Norma | C8: Ja | D8: FALSE
A9: Handelshaus | B9: Metro | C9: Ja | D9: FALSE
A10: Handelshaus | B10: Kaiser´s Tengelmann | C10: Ja | D10: TRUE
A11: Handelshaus | B11: Kaufhof | C11: Ja | D11: FALSE
A12: Handelshaus | B12: Coop | C12: Ja | D12: FALSE
A13: Auslieferungsregion | B13: Region | C13: Ja | D13: =IF(Auslieferungsregion="","",Auslieferungsregion)
A14: Auslieferungsregion | B14: Keine Angabe | C14: Ja | D14: FALSE
A15: Auftraggeber | B15: Erzeuger | C15: Nein | D15: FALSE
A16: Auftraggeber | B16: Lieferant | C16: Nein | D16: FALSE
A17: Auftraggeber | B17: Handelshaus | C17: Nein | D17: FALSE
A18: Auftraggeber | B18: Auftraggebertyp | C18: Formel | D18: =IF(D15=TRUE,0,IF(D16=TRUE,1,IF(D17=TRUE,2,0))) -> 0
A19: Auftraggeber | B19: Name | C19: Ja | D19: =IF(Auftrag!D11="","",Auftrag!D11)
A20: Auftraggeber | B20: Straße | C20: Ja | D20: =IF(Auftrag!D12="","",Auftrag!D12)
A21: Auftraggeber | B21: PLZ | C21: Ja | D21: =IF(Auftrag!D13="","",Auftrag!D13)
A22: Auftraggeber | B22: Ort | C22: Ja | D22: =IF(Auftrag!F13="","",Auftrag!F13)
A23: Auftraggeber | B23: Land | C23: Ja | D23: =IF(Auftrag!#REF!="","",Auftrag!#REF!) -> #REF!
A24: Auftraggeber | B24: Weitere Angaben | C24: Ja | D24: =IF(Auftrag!#REF!="","",Auftrag!#REF!) -> #REF!
A25: GLN des Auftraggebers | B25: GLN | C25: Ja | D25: =IF(Auftrag!C14="","",Auftrag!C14)
A26: GLN des Auftraggebers | B26: Keine Angabe | C26: Ja | D26: FALSE
A27: Handelshaus-spezifische Nummer | B27: Nummer | C27: Ja | D27: =IF(Auftrag!C25="","",Auftrag!C25)
A28: Einsender | B28: Erzeuger | C28: Nein | D28: FALSE
A29: Einsender | B29: Lieferant | C29: Nein | D29: FALSE
A30: Einsender | B30: Handelshaus | C30: Nein | D30: FALSE
A31: Einsender | B31: Sonstige | C31: Nein | D31: FALSE
A32: Einsender | B32: Einsendertyp | C32: Formel | D32: =IF(D28=TRUE,0,IF(D29=TRUE,1,IF(D30=TRUE,2,IF(D31=TRUE,3,0)))) -> 0
A33: Einsender | B33: Sonstigeangaben | C33: Ja | D33: FALSE
A34: Einsender | B34: Name | C34: Ja | D34: =IF(Auftrag!D26="","",Auftrag!D26)
A35: Einsender | B35: Straße | C35: Ja | D35: =IF(Auftrag!D27="","",Auftrag!D27)
A36: Einsender | B36: PLZ | C36: Ja | D36: =IF(Auftrag!D28="","",Auftrag!D28)
A37: Einsender | B37: Ort | C37: Ja | D37: =IF(Auftrag!F28="","",Auftrag!F28)
A38: Einsender | B38: Land | C38: Ja | D38: =IF(Auftrag!#REF!="","",Auftrag!#REF!) -> #REF!
A39: Einsender | B39: Weitere Angaben | C39: Ja | D39: =IF(Auftrag!#REF!="","",Auftrag!#REF!) -> #REF!
A40: Lieferant an Handelhaus | B40: Name | C40: Ja | D40: =IF(Auftrag!D29="","",Auftrag!D29)
...
